Workbook
Name ls_country: Lookups!$I$171:$I$365
Name ls_country_data: Lookups!$G$130:$H$138
Name ls_freq: Lookups!$H$28:$H$31
Name ls_GWP: Factors!$H$16:$O$63
Name ls_int_metric: Lookups!$H$143:$H$148
Name ls_Mat: Factors!$H$952:$H$1023
Name ls_Mat_Cat: Lookups!$H$153:$H$163
Name ls_Mat_def: tbl_Mat_def[Material Subcategory]
Name ls_Month: Lookups!$I$12:$I$23
Name ls_Month_2: Lookups!$H$12:$H$23
Name ls_PIc1: Lookups!$H$67:$H$71
Name ls_PIc2: Lookups!$H$76:$H$80
Name ls_purchased_mat: Factors!$V$952:$V$1018
Name ls_scope3: Factors!$G$1075:$G$1087
Name ls_Subcat_options: Lookups!$N$85:$N$95
Name ls_Transport: Lookups!$H$36:$H$44
Name ls_Transport_GWP: Lookups!$J$36:$J$44
Name ls_UOM_vol: Lookups!$I$58:$I$62
Name ls_UOM_weight: Lookups!$I$49:$I$53
Name ls_vehicle_GWP: Factors!$G$1092:$G$1097
Name ls_weight_units: Lookups!$H$49:$I$53
Name ls_WHM: Lookups!$H$109:$H$116
Name ls_WHM_options: Lookups!$N$11:$N$81
Name ls_WHMB_options: Lookups!$N$98:$N$168
Name ls_YN: Lookups!$H$6:$H$7

Sheet User Guide
A1: Introduction and User Guide
B3: Welcome to TRUE v2! This Zero Waste Calculator is designed for projects pursuing TRUE v2 zero waste certification, administered by GBCI, to calculate key performance metrics. Fill in the data input tabs as thoroughly as possible to determine your project's estimated score and rating. GBCI will verify the inputs and may accept the score, request additional supporting information, or take other steps to verify the score. Not all sections will apply to all projects.
B9: User Guide
B12: 1. | C12: Start by Reading the Instructions:
D13: Review the instructions at the top of each tab carefully before proceeding as they contain information to guide correct data entry and ensure the calculator is completed successfully.
B15: 2. | C15: Table of Contents:
D17: Tab Name | H17: Description
D18: Project Inputs | H18: Enter key project descriptions and elect attempted credits to estimate a final TRUE score and certification level.
D19: Materials | H19: List of material categories and subcategories, and space to enter custom material data.
D20: Diversion and Disposal | H20: Enter waste stream data by material and waste handling method over the twelve-month certification period.
D21: Baseline | H21: If electing into credit PIc7: Minimize Waste Generation, enter baseline data for comparison against certification period diversion and disposal data.
D22: Haz | H22: If electing into credit RDc1: Reduce Hazardous Materials, enter hazardous waste-based data for certification year and baseline year.
D23: Financial | H23: If electing into credit MAc2: Implement Financial Data Tracking, input cost data for waste hauling and management, including savings, rebates, and revenues.
D24: Transport | H24: If electing into credit PIc4: Calculate Transportation Emissions, input transport distance and vehicle information to calculate affiliated emissions estimates.
D25: Purchased Materials | H25: If electing into credit PIc3: Evaluate Material Emissions, enter costs of goods purchased each month.
D26: Audit Scenarios | H26: If electing into credit MAc4: Analyze and Execute Waste Audit Functions, compare existing waste handling strategies with adjustment scenarios to compare emissions savings.
D27: Errors | H27: Check location of errors in need of resolving, in order to unlock all data on the Results tab.
D28: Data Tables | H28: Quantitative results summarizing user inputs.
D29: Results | H29: A visual dashboard of results, including an estimated TRUE certification level and total points earned.
B32: 3. | C32: Enter Project Information and Elect Relevant Credits:
D34: In the 'Project Details' of the Project Inputs tab, enter details relevant to the project (name, time period, etc.). In the 'Credit Election' section, select the credits that your project is attempting to unlock relevant data entry sections of the workbook.
B37: 4. | C37: Cell Formatting Key
D39: Text | F39: Locked cell: No user input required.
F40: Empty user input cell: Fields where users can enter data
D41: Text | F41: Populated user input cell: Fields where users have entered data, for both regular and drop down inputs.
F42: Empty dropdown cell: Fields contain a drop down menu for users to select from
D43: Text | F43: Inactive user input cell and header: These cells are inactive by default. An input elsewhere will activate these cells. The text will be set to gray when inactive.
D44: 1 | F44: Error Check: Indicates a data entry error. This could be missing mandatory data or invalid data (e.g. words where numbers should be entered).
D45: Text | F45: Tab and table headers
D46: Text | F46: General instructions cell
D47: Text | F47: Tab section headers
B49: 5. | C49: Enter Waste Data:
D51: Following the instructions at the top of each data input tab, enter waste-related data according to the requirements of selected credits. Work through data entry tabs from left to right and ensure that all necessary cells are populated to properly generate results.
B53: 6. | C53: View Your Results:
D55: This calculator offers results in both tables (see 'Data Tables' and a summary dashboard (see 'Results). Note that the points and TRUE certification level displayed on the 'Results' tab are only estimates. Final scores will be determined by reviewers, dependent on proper documentation.
W59: V01
W60: Copyright © 2026
W61: U.S. Green Building Council
W62: All Rights Reserved
W63: Last Updated 10/14/2026

Sheet Project Inputs
A1: =_xlfn.CONCAT("Project Name: ",'Project Inputs'!$D$10) -> Project Name:
A2: Project Inputs
A4: Project Details
B6: Instructions In the Project Details section, select from the dropdown list the Country in which your project is located. The model supporting this calculator uses primary data from nine key countries: USA, India, China, Canada, Spain, Ireland, Brazil, Mexico and Australia. Users may select locations other than these nine, but the calculator will generated estimated data referencing the key countries most aligned with their waste operations emission profiles. Enter the year and month of your certification period to auto-populate the column headers in Diversion Data table. If attempting credit PIc7: Minimize Waste Generation, complete the intensity metric inputs. Intensity metrics are a way to normalize waste generation for comparability across projects. Select a metric from the dropdown list and enter relevant units and the quantity of those units relevant to your project. For example, for a chosen metric of "Annual Revenue", a user might enter USD for "Intensity Metric Unit" and "5,000,000" for "Intensity Metric Value". There is no wrong answer to an intensity metric - you may input any name and provide the appropriate conversion factor. A waste intensity ratio can be found on the 'Results' tab after completing data entry. The model provides some common intensity metrics that users can identify and quantify but users may also enter a custom intensity metric.
C10: Project Name
C11: Date Prepared (m[m]/d[d]/yyyy)
C13: Select Country Where Project is Located | BE13: Country | BF13: =$D$13 -> 0
BE14: Data Set ID | BF14: =IFERROR(INDEX(ls_country_data,MATCH(BF13,_xlfn.CHOOSECOLS(ls_country_data,2),0),1),1) -> 1
C15: Year of First Month of Certification Period
C16: First Month of Certification Period
C19: Select intensity metric (optional)
C20: Enter other intensity metric
C21: Intensity Metric Unit
C22: Intensity Metric Value
C24: Enter currency name (optional)
C25: Enter currency abbreviation or symbol
C26: Enter per USD exchange rate
A28: Credit Election
B30: Instructions The table below is an interactive list of credits to assist with tracking anticipated points towards certification. There are four types of entry cases: 1. Prerequisites. These rows do not allow inputs from users, as no points are awarded for required prerequisite credits. However, optional credits in each category cannot be earned if the prerequisites are not fulfilled. The Zero Waste Calculator is not involved in demonstrating completion. 2. Optional credits that do not require use of the calculator's data input tabs. Select 'Yes' in the "Attempted" column if you anticipate fulfilling project requirements of this credit. If a credit is multi-attribute (multiple pathways to achieving points), the "Credit Type" column will say "Optional: Expand Questionnaire". Click the [+] icon on the lefthand margin of the table to expand and answer additional credit-specific questions. 3. Optional credits that do rely on use of the calculator's data input tabs. If opting in to these credits, fill out the data tables affiliated with the credit and the 'Points Generated' score will auto-populate. In some cases, these credits require both quantitative calculator use and qualitative documentation. Expand the credit's questionnaire using the "+" / " -" icons on the righthand margin of the table, answering the questions available. If cells are locked to user edits, the calculator will auto-populate the points associated with that question. 4. Project Priority category can be populated manually with credits from the Project Priority Library (Appendix 1 of the TRUE v2 Rating System) or with open-ended innovation credits. Input the name of the credit, or a description of the innovative strategy in Column C. Enter the attempted number of points in Column G based on the Project Priority Library. All open-ended innovation credits are worth 1 point. A summary of total points demonstrated and the expected certification level can be found in the Results tab.
B32: Estimated Total Points Demonstrated: | D32: =SUM($G$36,$G$48,$G$64,$G$92,$G$125,$G$144,$G$158) -> 0
B33: Estimated TRUE Certification Level: | D33: ='Data output'!$H$22 -> Not certified
B35: Number | C35: Credit | D35: Available Points | E35: Credit Type | F35: Attempted | G35: Points Demonstrated | H35: Instructions | I35: User Notes
A36: =IF(G36>D36,1,"") | B36: FUNDAMENTALS AND PLANNING (FP) | D36: 7 | F36: Dropdown Selection | G36: =SUM(G37:G38,G43:G47) -> 0
B37: FPp1 | C37: Establish Zero Waste Goal and Policy | D37: P | E37: Prerequisite | F37: N/A | G37: 0 | H37: This prerequisite is required to qualify for TRUE v2 certification but does not involve use of the zero waste calculator.
A38: =IF(G38>D38,1,"") | B38: FPc1 | C38: Engage Upper Management in Zero Waste Activities | D38: 2 | E38: Optional: Expand Questionnaire | G38: =IF(F38="Yes",G42,0) -> 0 | H38: Optional. Award for this credit does not involve use of the Zero Waste Calculator. Select 'Yes' under 'Attempted' if you wish to certify that this project fulfills the requirements of this credit.
C39: Questions to determine FPc1 credit achievement (opt 'Yes' to enter data) | F39: Response | G39: Points | H39: Optional. Award for this credit does not involve use of the Zero Waste Calculator. Select 'Yes' under 'Attempted' if you wish to certify that this project fulfills the requirements of this credit.
B40: Option 1 | C40: Did upper management formally commit to the Zero Waste Goal and Policy developed in FPp1? | G40: =IF(F40="Yes",1,0) -> 0 | H40: Optional. Award for this credit does not involve use of the Zero Waste Calculator. Select 'Yes' under 'Attempted' if you wish to certify that this project fulfills the requirements of this credit.
B41: Option 2 | C41: Did you establish quarterly reviews with upper management on zero waste activities? | G41: =IF(F41="Yes",1,0) -> 0 | H41: Optional. Award for this credit does not involve use of the Zero Waste Calculator. Select 'Yes' under 'Attempted' if you wish to certify that this project fulfills the requirements of this credit.
G42: =IF(F38="Yes",SUM(G40:G41),0) -> 0 | H42: Optional. Award for this credit does not involve use of the Zero Waste Calculator. Select 'Yes' under 'Attempted' if you wish to certify that this project fulfills the requirements of this credit.
A43: =IF(G43>D43,1,"") | B43: FPc2 | C43: Establish a Zero Waste Manager | D43: 1 | E43: Optional | G43: =IF(F43="Yes",D43,0) -> 0 | H43: Optional. Award for this credit does not involve use of the Zero Waste Calculator. Select 'Yes' under 'Attempted' if you wish to certify that this project fulfills the requirements of this credit.
A44: =IF(G44>D44,1,"") | B44: FPc3 | C44: Include a TRUE Advisor in Project | D44: 1 | E44: Optional | G44: =IF(F44="Yes",D44,0) -> 0 | H44: Optional. Award for this credit does not involve use of the Zero Waste Calculator. Select 'Yes' under 'Attempted' if you wish to certify that this project fulfills the requirements of this credit.
A45: =IF(G45>D45,1,"") | B45: FPc4 | C45: Right-Size Collection | D45: 1 | E45: Optional | G45: =IF(F45="Yes",D45,0) -> 0 | H45: Optional. Award for this credit does not involve use of the Zero Waste Calculator. Select 'Yes' under 'Attempted' if you wish to certify that this project fulfills the requirements of this credit.
A46: =IF(G46>D46,1,"") | B46: FPc5 | C46: Label Container and Collection Areas | D46: 1 | E46: Optional | G46: =IF(F46="Yes",D46,0) -> 0 | H46: Optional. Award for this credit does not involve use of the Zero Waste Calculator. Select 'Yes' under 'Attempted' if you wish to certify that this project fulfills the requirements of this credit.
A47: =IF(G47>D47,1,"") | B47: FPc6 | C47: Engage Service Providers in Zero Waste Goals | D47: 1 | E47: Optional | G47: =IF(F47="Yes",D47,0) -> 0 | H47: Optional. Award for this credit does not involve use of the Zero Waste Calculator. Select 'Yes' under 'Attempted' if you wish to certify that this project fulfills the requirements of this credit.
A48: =IF(G48>D48,1,"") | B48: MEASUREMENT AND ANALYSIS (MP) | D48: 7 | G48: =SUM(G49:G54,G59) -> 0
B49: MAp1 | C49: Standardize Waste Tracking System | D49: P | E49: Prerequisite | F49: N/A | G49: 0 | H49: This prerequisite is required to qualify for TRUE v2 certification. Fill in 12 months of data in the 'Diversion and Disposal' tab of the Zero Wase Calculator to demonstrate this prerequisite.
B50: MAp2 | C50: Conduct a Waste Audit | D50: P | E50: Prerequisite | F50: N/A | G50: 0 | H50: This prerequisite is required to qualify for TRUE v2 certification but does not involve use of the zero waste calculator.
A51: =IF(G51>D51,1,"") | B51: MAc1 | C51: Expand Material Tracking | D51: 1 | E51: Optional | G51: =IF(F51="Yes",'Data output'!H30,0) -> 0 | H51: Optional. Award for this credit can be demonstrated by tracking material type subcategories for additional granularity. Select 'Yes' under 'Attempted' and then enter data in the "Material Subcategory" column of the "Diversion and Disposal" tab for material type subcategories provided by GBCI.
A52: =IF(G52>D52,1,"") | B52: MAc2 | C52: Implement Financial Data Tracking | D52: 1 | E52: Optional | G52: =IF(F52="Yes",'Data output'!H38,0) -> 0 | H52: Optional. Award for this credit can be demonstrated by tracking financial data for waste handling. Select 'Yes' under 'Attempted' and enter financial data in the 'Financial' tab, and 'Points Demonstrated' will auto-populate.
A53: =IF(G53>D53,1,"") | B53: MAc3 | C53: Conduct a Comprehensive Zero Waste Audit | D53: 1 | E53: Optional | G53: =IF(F53="Yes",D53,0) -> 0 | H53: Optional. Award for this credit does not involve use of the Zero Waste Calculator. Select 'Yes' under 'Attempted' if you wish to certify that this project fulfills the requirements of this credit. The results of the zero waste audit will serve as an input for the many areas of the Zero Waste Calculator.
...

Sheet Results
A1: =_xlfn.CONCAT("Project Name: ",'Project Inputs'!$D$10) -> Project Name:
A2: Results
C4: ESTIMATED POINTS AND CERTIFICATION
C5: Disclaimer: The total points demonstrated and the expected certification level are estimated based on user inputs and should not be considered as official certification. For complete results, ensure that you have entered all relevant data and resolved errors.
G6: ='Data output'!$H$21 -> 0 | N6: =TEXT('Data output'!H56,0)&" out of 5" -> 0 out of 5 | R6: =TEXT('Data output'!H64,0)&" out of 5" -> 0 out of 5
G7: ="Points attempted" -> Points attempted | N7: Zero Waste Excellence Score | R7: Preferred Diversion Score
C8: =_xlfn.CONCAT(" Estimated TRUE Certification Level: ", 'Data output'!$H$22) -> Estimated TRUE Certification Level: Not certified | N8: PIc1: Excel in Zero Waste Diversion | R8: PIc2: Prioritize Preferred Diversion Strategies
C10: WASTE STREAM-SPECIFIC DIVERSION RATES AND INTENSITY METRICS
G12: ='Data output'!$G$118 -> 0 | S12: Intensity metric:
G13: Average diversion | S13: ='Project Inputs'!D19 -> 0
S14: Intensity metric unit:
S15: ='Project Inputs'!D21 -> 0
S16: Waste Intensity:
S17: =IFERROR(_xlfn.CONCAT(TEXT(('Project Inputs'!D22)/'Data output'!G119, "0.000"), "kg / ", S15), "Select metric in Project Input tab") -> Select metric in Project Input tab
AO21: Reduce | AP21: Reuse | AQ21: Recycle | AR21: Compost | AS21: Anaerobic digestion | AT21: Not Diverted
AN22: Total Diversion | AO22: =$AO$21&" ("&TEXT($AO$23,"0%")&")" -> #DIV/0! | AP22: =$AP$21&" ("&TEXT($AP$23,"0%")&")" -> #DIV/0! | AQ22: =$AQ$21&" ("&TEXT($AQ$23,"0%")&")" -> #DIV/0! | AR22: =$AR$21&" ("&TEXT($AR$23,"0%")&")" -> #DIV/0! | AS22: =$AS$21&" ("&TEXT($AS$23,"0%")&")" -> #DIV/0! | AT22: =$AT$21&" ("&TEXT($AT$23,"0%")&")" -> Not Diverted (100%) | AU22: percent savings | AW22: landfill cost factor per kg
C23: WASTE DIVERSION AND TOTAL GENERATION | AN23: ='Data output'!$G$118 -> 0 | AO23: =$AY$25 -> #DIV/0! | AP23: =$AY$26 -> #DIV/0! | AQ23: ='Data output'!$G$108/'Data output'!$G$117 -> #DIV/0! | AR23: ='Data output'!$G$109/'Data output'!$G$117 -> #DIV/0! | AS23: ='Data output'!$G$110/'Data output'!$G$117 -> #DIV/0! | AT23: =1-$AN$23 -> 1 | AU23: =('Data output'!$H$284-'Data output'!$G$284)/'Data output'!$H$284 -> #DIV/0! | AW23: ='Data output'!$G$277/SUMIF('Diversion and Disposal'!$G$14:$G$113,Lookups!$H$114,'Diversion and Disposal'!$T$14:$T$113) -> #DIV/0! | AX23: this assumes cost data and waste data are from same time frame and that cost can be estimated based on mass
AL24: To be hidden in future versions | AN24: =1-$AN$23 -> 1 | AO24: =1-$AO$23 -> #DIV/0! | AP24: =1-$AP$23 -> #DIV/0! | AQ24: =1-$AQ$23 -> #DIV/0! | AR24: =1-$AR$23 -> #DIV/0! | AS24: =1-$AS$23 -> #DIV/0! | AX24: Weight (short tons)
C25: =TEXT(ROUND(CONVERT('Data output'!$G$115,"kg","ton"),0),"#,##0")&" short tons" -> 0 short tons | AW25: REDUCE | AX25: =CONVERT('Data output'!$G$106,"kg","ton") -> 0 | AY25: =AX25/SUM($AX$25:$AX$29) -> #DIV/0!
C26: Total waste diverted | AM26: Summary Table | AW26: REUSE | AX26: =CONVERT('Data output'!$G$107,"kg","ton") -> 0 | AY26: =AX26/SUM($AX$25:$AX$29) -> #DIV/0!
AW27: RECYCLE/COMPOST | AX27: =CONVERT(SUM('Data output'!$G$108:$G$109),"kg","ton") -> 0 | AY27: =AX27/SUM($AX$25:$AX$29) -> #DIV/0!
C28: =TEXT(ROUND(CONVERT('Data output'!$G$119,"kg","ton"),0),"#,##0")&" short tons" -> 0 short tons | AN28: Generated | AO28: Reduced | AP28: Reuse | AQ28: Recycle | AR28: Composting | AS28: Anaerobic digestion | AT28: Non diversion | AW28: MATERIAL RECOVERY (AD) | AX28: =CONVERT(SUM('Data output'!$G$110),"kg","ton") -> 0 | AY28: =AX28/SUM($AX$25:$AX$29) -> #DIV/0!
C29: Total waste generated | AW29: UNACCEPTABLE* | AX29: =CONVERT(SUM('Data output'!G111:G113),"kg","ton") -> 0 | AY29: =AX29/SUM($AX$25:$AX$29) -> #DIV/0!
AL30: Weight (short tons) | AM30: Overall | AN30: =CONVERT(SUM('Data output'!$G$107:$G$113),"kg","ton") -> 0 | AO30: =CONVERT('Data output'!$G$106,"kg","ton") -> 0
C31: =TEXT(ROUND(CONVERT(SUM('Data output'!$G$111:$G$113),"kg","ton"),0),"#,##0")&" short tons" -> 0 short tons | AM31: Diverted | AP31: =CONVERT('Data output'!$G$107,"kg","ton") -> 0 | AQ31: =CONVERT('Data output'!$G$108,"kg","ton") -> 0 | AR31: =CONVERT('Data output'!$G$109,"kg","ton") -> 0 | AS31: =CONVERT('Data output'!$G$110,"kg","ton") -> 0 | AW31: Waste handling method | AX31: Weight (short tons)
C32: Total waste not diverted | AM32: Non-diverted | AT32: =CONVERT(SUM('Data output'!$G$111:$G$113),"kg","ton") -> 0 | AW32: ='Data output'!F106 -> Reduce | AX32: =CONVERT('Data output'!$G$106,"kg","ton") -> 0
AL33: GWP (kgCO2) | AM33: Overall | AN33: =SUM('Data output'!$H$107:$H$113) -> 0 | AO33: ='Data output'!$H$106 -> 0 | AW33: ='Data output'!F107 -> Reuse | AX33: =CONVERT('Data output'!$G$107,"kg","ton") -> 0
AM34: Diverted | AP34: ='Data output'!$H$107 -> 0 | AQ34: ='Data output'!$H$108 -> 0 | AR34: ='Data output'!$H$109 -> 0 | AS34: ='Data output'!$H$110 -> 0 | AW34: ='Data output'!F108 -> Recycle | AX34: =CONVERT('Data output'!$G$108,"kg","ton") -> 0
P35: Notes: | Q35: *Residuals Management includes biological treatment and stabilized landfilling. | AW35: ='Data output'!F109 -> Composting | AX35: =CONVERT('Data output'!$G$109,"kg","ton") -> 0
Q36: Unacceptable includes incineration and "waste-to-energy.") | AM36: Non-diverted | AT36: =SUM('Data output'!$H$111:$H$113) -> 0 | AW36: ='Data output'!F110 -> Anaerobic Digestion | AX36: =CONVERT('Data output'!$G$110,"kg","ton") -> 0
AW37: ='Data output'!F111 -> Landfill | AX37: =CONVERT('Data output'!$G$111,"kg","ton") -> 0
AW38: ='Data output'!F112 -> Waste-to-Energy | AX38: =CONVERT('Data output'!$G$112,"kg","ton") -> 0
AW39: Incineration | AX39: =CONVERT('Data output'!$G$113,"kg","ton") -> 0
C40: ENVIRONMENTAL IMPACTS
I41: =TEXT(ROUND(CONVERT('Data output'!$G$137,"kg","Mg"),0),"#,##0")&" MTCO₂e" -> 0 MTCO₂e
I42: change in GHG emissions compared to an all-landfill scenario.* Equal to… | AL42: Comparative units for results | AT42: GHG from waste | AU42: ='Data output'!$G$137 -> 0
AT43: GHG from transportation | AU43: ='Data output'!$H$405 -> 0
AT44: GHG from purchased materials | AU44: =SUM('Data output'!$H$411:$H$510) -> 0
F45: =IF('Data output'!G137>0, "...adding "&TEXT($AO$68,"#,##0")&" cars to the road for one year", "...taking "&TEXT($AO$68,"#,##0")&" cars off the road for one year") -> ...taking 0 cars off the road for one year | L45: =IF('Data output'!G137>0, "...the absence of "&TEXT($AO$64,"#,##0")&" tree seedlings allowed to grow for 10 years^", "..."&TEXT($AO$64,"#,##0")&" tree seedlings allowed to grow for 10 years^") -> ...0 tree seedlings allowed to grow for 10 years^ | R45: =_xlfn.CONCAT("...the electricity use of " &TEXT($AO$72,"#,##0")," homes for an entire year") -> ...the electricity use of 0 homes for an entire year | AO45: tree factors from USGBC report pdf
AT46: Diverted
...

Sheet Materials
A1: =_xlfn.CONCAT("Project Name: ",'Project Inputs'!$D$10) -> Project Name:
A2: Materials | CZ2: Error count | DA2: =COUNTIF(A2:A975,1) -> 0
A3: Default Material List
B5: Description The following section lists the default materials available for selection throughout the model. Users may enter additional custom materials below the default material list and the waste handling impacts of those materials.
B7: Material Category | C7: Subcategory | E7: Material Category | F7: Subcategory
B8: Custom | C8: General/Other | E8: Paper | F8: Paper
B9: Electronics | C9: Appliances | E9: Paper | F9: Corr. Cardboard
B10: Electronics | C10: Batteries | E10: Paper | F10: Folding Containers
B11: Electronics | C11: E-waste | E11: Paper | F11: Magazines
B12: Electronics | C12: Electronics | E12: Paper | F12: Mixed Paper
B13: Electronics | C13: Lightbulbs/Lamps | E13: Paper | F13: Newsprint
B14: Food Waste | C14: Food Waste | E14: Paper | F14: Office Paper
B15: Food Waste | C15: Food Waste – Vegetable | E15: Paper | F15: Paper Bags
B16: Food Waste | C16: Food Waste – Non-Vegetable | E16: Paper | F16: Paper – Non-Recyclable
B17: Food Waste | C17: Mixed Organics | E17: Paper | F17: 3rd Class Mail
B18: Food Waste | C18: Oils/Grease | E18: Plastics | F18: Plastics
... B32: Metals | C32: Ferrous Cans | E32: Wood/Yard Trimmings | F32: Yard Trimming – Branches
B33: Metals | C33: Ferrous Metal
B34: Mixed | C34: Mixed
B35: Mixed | C35: Mixed Inorganics
B36: Mixed | C36: Mixed MSW
B37: Mixed | C37: Mixed Recycling
A41: Custom Material for Waste Handling
B43: Instructions If there are material types that do not appear in the default material list above, users may enter custom data below. To enter custom materials, freely enter the name, material subcategory, and the available GWP impact factors for the waste handling methods. The material category for all materials entered here is custom. For any custom material listed, users will need to provide affiliated impact factors for global warming potential (GWP), and GBCI may require additional documentation or citations. Users may optionally enter a region/country to note the data's geographic representation. The custom materials will appear in the material dropdowns in the waste data input tab as long as at least 1 impact is entered for GWP. No waste handling methods without values will be available for selection. Invalid Data Attempts to type in invalid data in input cells will result in an error (e.g., entering words in a cell that expects numbers). For any row with incomplete data entries, a red X will appear at the right of the table until the required data (custom material subcategory name and at least one GWP factor) are input in the table.
DB45: Error Handling
F46: Input GWP Impact Factors (kg CO2 eq/kg) | DB46: Error description
B47: Input Material Name [Optional] | C47: Custom Material Subcategory Name | D47: Region | E47: Country | F47: {=TRANSPOSE(ls_WHM)} -> Reduce | G47: Reuse | H47: Recycle | I47: Composting | J47: Anaerobic Digestion | K47: Landfill | L47: Waste-to-Energy | M47: Incineration | N47: Citation Notes | DA47: E1 | DB47: All factors are numbers or blank | DD47: Errors | DE47: E1 | DF47: E2
A48: =IF(DD48=0,"",1) | DA48: E2 | DB48: For rows with information, the minimum data is subcategory and 1 factor. | DD48: =SUM(DE48:DF48) -> 0 | DE48: =SUM(IF(OR(ISNUMBER(F48),LEN(F48)=0),0,1),IF(OR(ISNUMBER(G48),LEN(G48)=0),0,1), IF(OR(ISNUMBER(H48),LEN(H48)=0),0,1),IF(OR(ISNUMBER(I48),LEN(I48)=0),0,1), IF(OR(ISNUMBER(J48),LEN(J48)=0),0,1),IF(OR(ISNUMBER(K48),LEN(K48)=0),0,1), IF(OR(ISNUMBER(L48),LEN(L48)=0),0,1),IF(OR(ISNUMBER(M48),LEN(M48)=0),0,1)) -> 0 | DF48: =IF(OR(COUNTBLANK(B48:N48)=13, AND(COUNTBLANK(F48:M48)<8,NOT(ISBLANK(C48)))),0,1) -> 0
A49: =IF(DD49=0,"",1) | DD49: =SUM(DE49:DF49) -> 0 | DE49: =SUM(IF(OR(ISNUMBER(F49),LEN(F49)=0),0,1),IF(OR(ISNUMBER(G49),LEN(G49)=0),0,1), IF(OR(ISNUMBER(H49),LEN(H49)=0),0,1),IF(OR(ISNUMBER(I49),LEN(I49)=0),0,1), IF(OR(ISNUMBER(J49),LEN(J49)=0),0,1),IF(OR(ISNUMBER(K49),LEN(K49)=0),0,1), IF(OR(ISNUMBER(L49),LEN(L49)=0),0,1),IF(OR(ISNUMBER(M49),LEN(M49)=0),0,1)) -> 0 | DF49: =IF(OR(COUNTBLANK(B49:N49)=13, AND(COUNTBLANK(F49:M49)<8,NOT(ISBLANK(C49)))),0,1) -> 0
A50: =IF(DD50=0,"",1) | DD50: =SUM(DE50:DF50) -> 0 | DE50: =SUM(IF(OR(ISNUMBER(F50),LEN(F50)=0),0,1),IF(OR(ISNUMBER(G50),LEN(G50)=0),0,1), IF(OR(ISNUMBER(H50),LEN(H50)=0),0,1),IF(OR(ISNUMBER(I50),LEN(I50)=0),0,1), IF(OR(ISNUMBER(J50),LEN(J50)=0),0,1),IF(OR(ISNUMBER(K50),LEN(K50)=0),0,1), IF(OR(ISNUMBER(L50),LEN(L50)=0),0,1),IF(OR(ISNUMBER(M50),LEN(M50)=0),0,1)) -> 0 | DF50: =IF(OR(COUNTBLANK(B50:N50)=13, AND(COUNTBLANK(F50:M50)<8,NOT(ISBLANK(C50)))),0,1) -> 0
A51: =IF(DD51=0,"",1) | DD51: =SUM(DE51:DF51) -> 0 | DE51: =SUM(IF(OR(ISNUMBER(F51),LEN(F51)=0),0,1),IF(OR(ISNUMBER(G51),LEN(G51)=0),0,1), IF(OR(ISNUMBER(H51),LEN(H51)=0),0,1),IF(OR(ISNUMBER(I51),LEN(I51)=0),0,1), IF(OR(ISNUMBER(J51),LEN(J51)=0),0,1),IF(OR(ISNUMBER(K51),LEN(K51)=0),0,1), IF(OR(ISNUMBER(L51),LEN(L51)=0),0,1),IF(OR(ISNUMBER(M51),LEN(M51)=0),0,1)) -> 0 | DF51: =IF(OR(COUNTBLANK(B51:N51)=13, AND(COUNTBLANK(F51:M51)<8,NOT(ISBLANK(C51)))),0,1) -> 0
A52: =IF(DD52=0,"",1) | DD52: =SUM(DE52:DF52) -> 0 | DE52: =SUM(IF(OR(ISNUMBER(F52),LEN(F52)=0),0,1),IF(OR(ISNUMBER(G52),LEN(G52)=0),0,1), IF(OR(ISNUMBER(H52),LEN(H52)=0),0,1),IF(OR(ISNUMBER(I52),LEN(I52)=0),0,1), IF(OR(ISNUMBER(J52),LEN(J52)=0),0,1),IF(OR(ISNUMBER(K52),LEN(K52)=0),0,1), IF(OR(ISNUMBER(L52),LEN(L52)=0),0,1),IF(OR(ISNUMBER(M52),LEN(M52)=0),0,1)) -> 0 | DF52: =IF(OR(COUNTBLANK(B52:N52)=13, AND(COUNTBLANK(F52:M52)<8,NOT(ISBLANK(C52)))),0,1) -> 0
A53: =IF(DD53=0,"",1) | DD53: =SUM(DE53:DF53) -> 0 | DE53: =SUM(IF(OR(ISNUMBER(F53),LEN(F53)=0),0,1),IF(OR(ISNUMBER(G53),LEN(G53)=0),0,1), IF(OR(ISNUMBER(H53),LEN(H53)=0),0,1),IF(OR(ISNUMBER(I53),LEN(I53)=0),0,1), IF(OR(ISNUMBER(J53),LEN(J53)=0),0,1),IF(OR(ISNUMBER(K53),LEN(K53)=0),0,1), IF(OR(ISNUMBER(L53),LEN(L53)=0),0,1),IF(OR(ISNUMBER(M53),LEN(M53)=0),0,1)) -> 0 | DF53: =IF(OR(COUNTBLANK(B53:N53)=13, AND(COUNTBLANK(F53:M53)<8,NOT(ISBLANK(C53)))),0,1) -> 0
A54: =IF(DD54=0,"",1) | DD54: =SUM(DE54:DF54) -> 0 | DE54: =SUM(IF(OR(ISNUMBER(F54),LEN(F54)=0),0,1),IF(OR(ISNUMBER(G54),LEN(G54)=0),0,1), IF(OR(ISNUMBER(H54),LEN(H54)=0),0,1),IF(OR(ISNUMBER(I54),LEN(I54)=0),0,1), IF(OR(ISNUMBER(J54),LEN(J54)=0),0,1),IF(OR(ISNUMBER(K54),LEN(K54)=0),0,1), IF(OR(ISNUMBER(L54),LEN(L54)=0),0,1),IF(OR(ISNUMBER(M54),LEN(M54)=0),0,1)) -> 0 | DF54: =IF(OR(COUNTBLANK(B54:N54)=13, AND(COUNTBLANK(F54:M54)<8,NOT(ISBLANK(C54)))),0,1) -> 0
A55: =IF(DD55=0,"",1) | DD55: =SUM(DE55:DF55) -> 0 | DE55: =SUM(IF(OR(ISNUMBER(F55),LEN(F55)=0),0,1),IF(OR(ISNUMBER(G55),LEN(G55)=0),0,1), IF(OR(ISNUMBER(H55),LEN(H55)=0),0,1),IF(OR(ISNUMBER(I55),LEN(I55)=0),0,1), IF(OR(ISNUMBER(J55),LEN(J55)=0),0,1),IF(OR(ISNUMBER(K55),LEN(K55)=0),0,1), IF(OR(ISNUMBER(L55),LEN(L55)=0),0,1),IF(OR(ISNUMBER(M55),LEN(M55)=0),0,1)) -> 0 | DF55: =IF(OR(COUNTBLANK(B55:N55)=13, AND(COUNTBLANK(F55:M55)<8,NOT(ISBLANK(C55)))),0,1) -> 0
A56: =IF(DD56=0,"",1) | DD56: =SUM(DE56:DF56) -> 0 | DE56: =SUM(IF(OR(ISNUMBER(F56),LEN(F56)=0),0,1),IF(OR(ISNUMBER(G56),LEN(G56)=0),0,1), IF(OR(ISNUMBER(H56),LEN(H56)=0),0,1),IF(OR(ISNUMBER(I56),LEN(I56)=0),0,1), IF(OR(ISNUMBER(J56),LEN(J56)=0),0,1),IF(OR(ISNUMBER(K56),LEN(K56)=0),0,1), IF(OR(ISNUMBER(L56),LEN(L56)=0),0,1),IF(OR(ISNUMBER(M56),LEN(M56)=0),0,1)) -> 0 | DF56: =IF(OR(COUNTBLANK(B56:N56)=13, AND(COUNTBLANK(F56:M56)<8,NOT(ISBLANK(C56)))),0,1) -> 0
A57: =IF(DD57=0,"",1) | DD57: =SUM(DE57:DF57) -> 0 | DE57: =SUM(IF(OR(ISNUMBER(F57),LEN(F57)=0),0,1),IF(OR(ISNUMBER(G57),LEN(G57)=0),0,1), IF(OR(ISNUMBER(H57),LEN(H57)=0),0,1),IF(OR(ISNUMBER(I57),LEN(I57)=0),0,1), IF(OR(ISNUMBER(J57),LEN(J57)=0),0,1),IF(OR(ISNUMBER(K57),LEN(K57)=0),0,1), IF(OR(ISNUMBER(L57),LEN(L57)=0),0,1),IF(OR(ISNUMBER(M57),LEN(M57)=0),0,1)) -> 0 | DF57: =IF(OR(COUNTBLANK(B57:N57)=13, AND(COUNTBLANK(F57:M57)<8,NOT(ISBLANK(C57)))),0,1) -> 0
A58: =IF(DD58=0,"",1) | DD58: =SUM(DE58:DF58) -> 0 | DE58: =SUM(IF(OR(ISNUMBER(F58),LEN(F58)=0),0,1),IF(OR(ISNUMBER(G58),LEN(G58)=0),0,1), IF(OR(ISNUMBER(H58),LEN(H58)=0),0,1),IF(OR(ISNUMBER(I58),LEN(I58)=0),0,1), IF(OR(ISNUMBER(J58),LEN(J58)=0),0,1),IF(OR(ISNUMBER(K58),LEN(K58)=0),0,1), IF(OR(ISNUMBER(L58),LEN(L58)=0),0,1),IF(OR(ISNUMBER(M58),LEN(M58)=0),0,1)) -> 0 | DF58: =IF(OR(COUNTBLANK(B58:N58)=13, AND(COUNTBLANK(F58:M58)<8,NOT(ISBLANK(C58)))),0,1) -> 0
A59: =IF(DD59=0,"",1) | DD59: =SUM(DE59:DF59) -> 0 | DE59: =SUM(IF(OR(ISNUMBER(F59),LEN(F59)=0),0,1),IF(OR(ISNUMBER(G59),LEN(G59)=0),0,1), IF(OR(ISNUMBER(H59),LEN(H59)=0),0,1),IF(OR(ISNUMBER(I59),LEN(I59)=0),0,1), IF(OR(ISNUMBER(J59),LEN(J59)=0),0,1),IF(OR(ISNUMBER(K59),LEN(K59)=0),0,1), IF(OR(ISNUMBER(L59),LEN(L59)=0),0,1),IF(OR(ISNUMBER(M59),LEN(M59)=0),0,1)) -> 0 | DF59: =IF(OR(COUNTBLANK(B59:N59)=13, AND(COUNTBLANK(F59:M59)<8,NOT(ISBLANK(C59)))),0,1) -> 0
A60: =IF(DD60=0,"",1) | DD60: =SUM(DE60:DF60) -> 0 | DE60: =SUM(IF(OR(ISNUMBER(F60),LEN(F60)=0),0,1),IF(OR(ISNUMBER(G60),LEN(G60)=0),0,1), IF(OR(ISNUMBER(H60),LEN(H60)=0),0,1),IF(OR(ISNUMBER(I60),LEN(I60)=0),0,1), IF(OR(ISNUMBER(J60),LEN(J60)=0),0,1),IF(OR(ISNUMBER(K60),LEN(K60)=0),0,1), IF(OR(ISNUMBER(L60),LEN(L60)=0),0,1),IF(OR(ISNUMBER(M60),LEN(M60)=0),0,1)) -> 0 | DF60: =IF(OR(COUNTBLANK(B60:N60)=13, AND(COUNTBLANK(F60:M60)<8,NOT(ISBLANK(C60)))),0,1) -> 0
...

Sheet Diversion and Disposal
A1: =_xlfn.CONCAT("Project Name: ",'Project Inputs'!$D$10) -> Project Name:
A2: Diversion and Disposal Data | CZ2: Error count | DA2: =COUNTIF(A2:A1001,1) -> 0
B4: Instructions Waste Reporting Data In the Waste Reporting Data section, input all solid, non-hazardous waste generated within the project boundary. This should include materials from regular monthly operations and intermittent (such as construction and special events) and tenant-generated waste as applicable. In the case that your regular waste data is only available in annual totals, you may either divide totals by 12 and enter equal values across the 12-month collection period, or enter the total value in a single month's cell. Exclude hazardous materials (as defined by local regulations) and wastewater from the Waste Reporting Data table. For more guidance on included and excluded materials, refer to the TRUE v2 Supplementary Guidance. 'User Notes (optional)' can be used to populate with internal naming conventions. To fill in the Waste Reporting Data table, select the unit of measure for the waste generated above the table. Next, select the generation frequency (monthly or intermittent) and whether the data was actually measured or estimated. In the 'User Notes (optional)' column, you may optionally include a note, material name, or other internal naming conventions which will not affect the rest of the model. For each material line, select the material category most representative of the material stream. A full pairing of material categories with subcategories may be found in the Materials tab. Note that data in the Material Category must be selected before Material Subcategory and Waste Handling Method selections are available. Next, select the material subcategory to further specify the primary product type within the stream. If you do not have product-level data or are not seeking credit for MAc1: Expanded Material Tracking, select the same response as used with material category. Then, select the waste handling method. After entering the material category, subcategory and waste handling method enter the weight of material waste generated in each month where data is available. The model will sum each month to get the total. Finally, users may optionally enter notes for each material line. Invalid Data and row expansions Attempts to type in invalid data in input cells will result in an error (e.g. entering words in a cell that expects numbers or entering something that does not match the drop down list). To expand or collapse rows beyond the default 20 lines of input: Use the "+" / “-“ buttons on the left edge of the worksheet. Do not insert or delete rows manually.
A6: Waste Reporting Data | DB6: Error Handling
BG7: Weight Code | BH7: =INDEX(ls_weight_units,MATCH(I9,_xlfn.CHOOSECOLS(ls_weight_units,2),0),1) -> #N/A
DD8: Errors | DE8: E0
A9: =IF(DD9=0,"",1) | H9: What is the unit of weight used in the diversion data? | DA9: E0 | DB9: Check for UOM selection | DD9: =DE9 -> 0 | DE9: =IF(OR(LEN(I9)>0,SUM(BT14:BT33)=0),0,1) -> 0
G12: Date | H12: =IFERROR(_xlfn.CONCAT(IF(OR(LEN('Project Inputs'!$D$15)=0,LEN('Project Inputs'!$D$16)=0),"", INDEX(ls_Month_2,MONTH(EDATE(DATE('Project Inputs'!$D$15,MATCH('Project Inputs'!$D$16,ls_Month_2,0),1),0)))),CHAR(10),IF(OR(LEN('Project Inputs'!$D$15)=0,LEN('Project Inputs'!$D$16)=0),"", YEAR(EDATE(DATE('Project Inputs'!$D$15,MATCH('Project Inputs'!$D$16,ls_Month_2,0),1),0)))),"Check Inputs") | I12: =IFERROR(_xlfn.CONCAT(IF(OR(LEN('Project Inputs'!$D$15)=0,LEN('Project Inputs'!$D$16)=0),"", INDEX(ls_Month_2,MONTH(EDATE(DATE('Project Inputs'!$D$15,MATCH('Project Inputs'!$D$16,ls_Month_2,0),1),1)))),CHAR(10),IF(OR(LEN('Project Inputs'!$D$15)=0,LEN('Project Inputs'!$D$16)=0),"", YEAR(EDATE(DATE('Project Inputs'!$D$15,MATCH('Project Inputs'!$D$16,ls_Month_2,0),1),1)))),"Check Inputs") | J12: =IFERROR(_xlfn.CONCAT(IF(OR(LEN('Project Inputs'!$D$15)=0,LEN('Project Inputs'!$D$16)=0),"", INDEX(ls_Month_2,MONTH(EDATE(DATE('Project Inputs'!$D$15,MATCH('Project Inputs'!$D$16,ls_Month_2,0),1),2)))),CHAR(10),IF(OR(LEN('Project Inputs'!$D$15)=0,LEN('Project Inputs'!$D$16)=0),"", YEAR(EDATE(DATE('Project Inputs'!$D$15,MATCH('Project Inputs'!$D$16,ls_Month_2,0),1),2)))),"Check Inputs") | K12: =IFERROR(_xlfn.CONCAT(IF(OR(LEN('Project Inputs'!$D$15)=0,LEN('Project Inputs'!$D$16)=0),"", INDEX(ls_Month_2,MONTH(EDATE(DATE('Project Inputs'!$D$15,MATCH('Project Inputs'!$D$16,ls_Month_2,0),1),3)))),CHAR(10),IF(OR(LEN('Project Inputs'!$D$15)=0,LEN('Project Inputs'!$D$16)=0),"", YEAR(EDATE(DATE('Project Inputs'!$D$15,MATCH('Project Inputs'!$D$16,ls_Month_2,0),1),3)))),"Check Inputs") | L12: =IFERROR(_xlfn.CONCAT(IF(OR(LEN('Project Inputs'!$D$15)=0,LEN('Project Inputs'!$D$16)=0),"", INDEX(ls_Month_2,MONTH(EDATE(DATE('Project Inputs'!$D$15,MATCH('Project Inputs'!$D$16,ls_Month_2,0),1),4)))),CHAR(10),IF(OR(LEN('Project Inputs'!$D$15)=0,LEN('Project Inputs'!$D$16)=0),"", YEAR(EDATE(DATE('Project Inputs'!$D$15,MATCH('Project Inputs'!$D$16,ls_Month_2,0),1),4)))),"Check Inputs") | M12: =IFERROR(_xlfn.CONCAT(IF(OR(LEN('Project Inputs'!$D$15)=0,LEN('Project Inputs'!$D$16)=0),"", INDEX(ls_Month_2,MONTH(EDATE(DATE('Project Inputs'!$D$15,MATCH('Project Inputs'!$D$16,ls_Month_2,0),1),5)))),CHAR(10),IF(OR(LEN('Project Inputs'!$D$15)=0,LEN('Project Inputs'!$D$16)=0),"", YEAR(EDATE(DATE('Project Inputs'!$D$15,MATCH('Project Inputs'!$D$16,ls_Month_2,0),1),5)))),"Check Inputs") | N12: =IFERROR(_xlfn.CONCAT(IF(OR(LEN('Project Inputs'!$D$15)=0,LEN('Project Inputs'!$D$16)=0),"", INDEX(ls_Month_2,MONTH(EDATE(DATE('Project Inputs'!$D$15,MATCH('Project Inputs'!$D$16,ls_Month_2,0),1),6)))),CHAR(10),IF(OR(LEN('Project Inputs'!$D$15)=0,LEN('Project Inputs'!$D$16)=0),"", YEAR(EDATE(DATE('Project Inputs'!$D$15,MATCH('Project Inputs'!$D$16,ls_Month_2,0),1),6)))),"Check Inputs") | O12: =IFERROR(_xlfn.CONCAT(IF(OR(LEN('Project Inputs'!$D$15)=0,LEN('Project Inputs'!$D$16)=0),"", INDEX(ls_Month_2,MONTH(EDATE(DATE('Project Inputs'!$D$15,MATCH('Project Inputs'!$D$16,ls_Month_2,0),1),7)))),CHAR(10),IF(OR(LEN('Project Inputs'!$D$15)=0,LEN('Project Inputs'!$D$16)=0),"", YEAR(EDATE(DATE('Project Inputs'!$D$15,MATCH('Project Inputs'!$D$16,ls_Month_2,0),1),7)))),"Check Inputs") | P12: =IFERROR(_xlfn.CONCAT(IF(OR(LEN('Project Inputs'!$D$15)=0,LEN('Project Inputs'!$D$16)=0),"", INDEX(ls_Month_2,MONTH(EDATE(DATE('Project Inputs'!$D$15,MATCH('Project Inputs'!$D$16,ls_Month_2,0),1),8)))),CHAR(10),IF(OR(LEN('Project Inputs'!$D$15)=0,LEN('Project Inputs'!$D$16)=0),"", YEAR(EDATE(DATE('Project Inputs'!$D$15,MATCH('Project Inputs'!$D$16,ls_Month_2,0),1),8)))),"Check Inputs") | Q12: =IFERROR(_xlfn.CONCAT(IF(OR(LEN('Project Inputs'!$D$15)=0,LEN('Project Inputs'!$D$16)=0),"", INDEX(ls_Month_2,MONTH(EDATE(DATE('Project Inputs'!$D$15,MATCH('Project Inputs'!$D$16,ls_Month_2,0),1),9)))),CHAR(10),IF(OR(LEN('Project Inputs'!$D$15)=0,LEN('Project Inputs'!$D$16)=0),"", YEAR(EDATE(DATE('Project Inputs'!$D$15,MATCH('Project Inputs'!$D$16,ls_Month_2,0),1),9)))),"Check Inputs") | R12: =IFERROR(_xlfn.CONCAT(IF(OR(LEN('Project Inputs'!$D$15)=0,LEN('Project Inputs'!$D$16)=0),"", INDEX(ls_Month_2,MONTH(EDATE(DATE('Project Inputs'!$D$15,MATCH('Project Inputs'!$D$16,ls_Month_2,0),1),10)))),CHAR(10),IF(OR(LEN('Project Inputs'!$D$15)=0,LEN('Project Inputs'!$D$16)=0),"", YEAR(EDATE(DATE('Project Inputs'!$D$15,MATCH('Project Inputs'!$D$16,ls_Month_2,0),1),10)))),"Check Inputs") | S12: =IFERROR(_xlfn.CONCAT(IF(OR(LEN('Project Inputs'!$D$15)=0,LEN('Project Inputs'!$D$16)=0),"", INDEX(ls_Month_2,MONTH(EDATE(DATE('Project Inputs'!$D$15,MATCH('Project Inputs'!$D$16,ls_Month_2,0),1),11)))),CHAR(10),IF(OR(LEN('Project Inputs'!$D$15)=0,LEN('Project Inputs'!$D$16)=0),"", YEAR(EDATE(DATE('Project Inputs'!$D$15,MATCH('Project Inputs'!$D$16,ls_Month_2,0),1),11)))),"Check Inputs") | BH12: =H12 | BI12: =I12 | BJ12: =J12 | BK12: =K12 | BL12: =L12 | BM12: =M12 | BN12: =N12 | BO12: =O12 | ... BS12: =S12 | BT12: Total | BW12: =H12 | BX12: =I12 | BY12: =J12 | BZ12: =K12 | CA12: =L12 | CB12: =M12 | CC12: =N12 | CD12: =O12 | ... CH12: =S12 | CI12: Total | CM12: Baseline waste generation (landfill)
B13: Generation Frequency | C13: Actual or estimated weight? | D13: User Notes (optional) | E13: Material Category | F13: Material Subcategory | G13: Waste Handling Method | H13: =_xlfn.CONCAT("Weight (",'Diversion and Disposal'!I9,,")") -> Weight () | T13: Total | U13: Notes | BC13: Generation Frequency | BD13: User Notes (optional) | BE13: Material Category | BF13: Material Subcategory | BG13: Waste Handling Method | BH13: Weight (kg) | BU13: Data Set ID | BV13: GWP factor (kg CO2/kg) | BW13: GWP emissions (kg CO2e) | CK13: Qualified expanded material | CM13: Material Type | CN13: Waste Handling Method | CO13: GWP factor (kg CO2/kg) | CP13: GWP (kg CO2e) | DD13: Errors | DE13: EB (up to 19) | DF13: E1 | DG13: E2 | DH13: E3 | DI13: E4
A14: =IF(DD14=0,"",1) | T14: =SUM(H14:S14) -> 0 | BC14: =_xlfn.LET(_xlpm.x,B14,IF(OR(LEN(_xlpm.x)<1,_xlpm.x=0),"",_xlpm.x)) | BD14: =_xlfn.LET(_xlpm.x,D14,IF(OR(LEN(_xlpm.x)<1,_xlpm.x=0),"",_xlpm.x)) | BE14: =_xlfn.LET(_xlpm.x,E14,IF(OR(LEN(_xlpm.x)<1,_xlpm.x=0),"",_xlpm.x)) | BF14: =_xlfn.LET(_xlpm.x,F14,IF(OR(LEN(_xlpm.x)<1,_xlpm.x=0),"",_xlpm.x)) | BG14: =_xlfn.LET(_xlpm.x,G14,IF(OR(LEN(_xlpm.x)<1,_xlpm.x=0),"",_xlpm.x)) | BH14: =_xlfn.LET(_xlpm.x,H14,IF(OR(LEN(_xlpm.x)<1,_xlpm.x=0),"",CONVERT(_xlpm.x,BH7,"kg"))) | BI14: =_xlfn.LET(_xlpm.x,I14,IF(OR(LEN(_xlpm.x)<1,_xlpm.x=0),"",CONVERT(_xlpm.x,BH7,"kg"))) | BJ14: =_xlfn.LET(_xlpm.x,J14,IF(OR(LEN(_xlpm.x)<1,_xlpm.x=0),"",CONVERT(_xlpm.x,BH7,"kg"))) | BK14: =_xlfn.LET(_xlpm.x,K14,IF(OR(LEN(_xlpm.x)<1,_xlpm.x=0),"",CONVERT(_xlpm.x,BH7,"kg"))) | BL14: =_xlfn.LET(_xlpm.x,L14,IF(OR(LEN(_xlpm.x)<1,_xlpm.x=0),"",CONVERT(_xlpm.x,BH7,"kg"))) | BM14: =_xlfn.LET(_xlpm.x,M14,IF(OR(LEN(_xlpm.x)<1,_xlpm.x=0),"",CONVERT(_xlpm.x,BH7,"kg"))) | BN14: =_xlfn.LET(_xlpm.x,N14,IF(OR(LEN(_xlpm.x)<1,_xlpm.x=0),"",CONVERT(_xlpm.x,BH7,"kg"))) | BO14: =_xlfn.LET(_xlpm.x,O14,IF(OR(LEN(_xlpm.x)<1,_xlpm.x=0),"",CONVERT(_xlpm.x,BH7,"kg"))) | BP14: =_xlfn.LET(_xlpm.x,P14,IF(OR(LEN(_xlpm.x)<1,_xlpm.x=0),"",CONVERT(_xlpm.x,BH7,"kg"))) | BQ14: =_xlfn.LET(_xlpm.x,Q14,IF(OR(LEN(_xlpm.x)<1,_xlpm.x=0),"",CONVERT(_xlpm.x,BH7,"kg"))) | BR14: =_xlfn.LET(_xlpm.x,R14,IF(OR(LEN(_xlpm.x)<1,_xlpm.x=0),"",CONVERT(_xlpm.x,BH7,"kg"))) | BS14: =_xlfn.LET(_xlpm.x,S14,IF(OR(LEN(_xlpm.x)<1,_xlpm.x=0),"",CONVERT(_xlpm.x,BH7,"kg"))) | BT14: =SUM(BH14:BS14) -> 0 | BU14: =_xlfn.LET(_xlpm.x,BF14,IF(LEN(_xlpm.x)<1,"",IF(ISNUMBER(MATCH(_xlpm.x,ls_Mat_def,0)),'Project Inputs'!$BF$14,99))) | BV14: {=IFERROR(INDEX(tblGWP[],MATCH(1,(tblGWP[Dataset ID]=BU14)*(tblGWP[Material Subcategory]=BF14),0),MATCH(BG14,ls_WHM,0)+5),"confirm")} -> confirm | BW14: =IFERROR(BH14*$BV14,"No data") -> No data | BX14: =IFERROR(BI14*$BV14,"No data") -> No data | BY14: =IFERROR(BJ14*$BV14,"No data") -> No data | BZ14: =IFERROR(BK14*$BV14,"No data") -> No data | CA14: =IFERROR(BL14*$BV14,"No data") -> No data | CB14: =IFERROR(BM14*$BV14,"No data") -> No data | CC14: =IFERROR(BN14*$BV14,"No data") -> No data | CD14: =IFERROR(BO14*$BV14,"No data") -> No data | ... CH14: =IFERROR(BS14*$BV14,"No data") -> No data | CI14: =SUM(BW14:CH14) -> 0 | CK14: =_xlfn.LET(_xlpm.x,INDEX(tbl_Mat_def[],MATCH(BF14,ls_Mat_def,0),2),IFERROR(IF(_xlpm.x=0,"No","Yes"),"No")) -> No | CM14: =BF14 | CN14: Landfill | CO14: =_xlfn.XLOOKUP(CM14,tblGWP[Material Subcategory],tblGWP[Landfill],0) | CP14: =IFERROR($BT14*CO14,"") | DA14: EB | DB14: Check for all blanks, no errors in full blank rows. | DD14: =IF(DE14=19,0,SUM(DF14:DI14)) -> 0 | DE14: =COUNTBLANK(B14:U14) -> 19 | DF14: =SUM(IF(OR(ISNUMBER(H14),LEN(H14)=0),0,1),IF(OR(ISNUMBER(I14),LEN(I14)=0),0,1), IF(OR(ISNUMBER(J14),LEN(J14)=0),0,1),IF(OR(ISNUMBER(K14),LEN(K14)=0),0,1), IF(OR(ISNUMBER(L14),LEN(L14)=0),0,1),IF(OR(ISNUMBER(M14),LEN(M14)=0),0,1), IF(OR(ISNUMBER(N14),LEN(N14)=0),0,1),IF(OR(ISNUMBER(O14),LEN(O14)=0),0,1), IF(OR(ISNUMBER(P14),LEN(P14)=0),0,1),IF(OR(ISNUMBER(Q14),LEN(Q14)=0),0,1), IF(OR(ISNUMBER(R14),LEN(R14)=0),0,1),IF(OR(ISNUMBER(S14),LEN(S14)=0),0,1))+ IF(MIN(H14:R14)>=0,0,1) -> 0 | DG14: =_xlfn.LET(_xlpm.x,DE14,_xlpm.y,B14,_xlpm.z,E14,_xlpm.m,F14,_xlpm.n,G14,_xlpm.o,COUNTBLANK(H14:S14),_xlpm.p,C14,IF(_xlpm.x=19,0, IF(AND(LEN(_xlpm.y)>0,LEN(_xlpm.z)>0,LEN(_xlpm.m)>0,LEN(_xlpm.n)>0,LEN(_xlpm.p)>0,_xlpm.o<12),0,1))) -> 0 | DH14: =IF(DE14=19,0,IF(ISNUMBER(MATCH(F14,INDIRECT(INDEX(ls_Subcat_options,MATCH(E14,ls_Mat_Cat,0))),0)),0,1)) -> 0 | DI14: =IF(DE14=19,0,IF(ISNUMBER(MATCH(G14,INDIRECT(INDEX(ls_WHM_options,MATCH(F14,ls_Mat,0))),0)),0,1)) -> 0
A15: =IF(DD15=0,"",1) | T15: =SUM(H15:S15) -> 0 | BC15: =_xlfn.LET(_xlpm.x,B15,IF(OR(LEN(_xlpm.x)<1,_xlpm.x=0),"",_xlpm.x)) | BD15: =_xlfn.LET(_xlpm.x,D15,IF(OR(LEN(_xlpm.x)<1,_xlpm.x=0),"",_xlpm.x)) | BE15: =_xlfn.LET(_xlpm.x,E15,IF(OR(LEN(_xlpm.x)<1,_xlpm.x=0),"",_xlpm.x)) | BF15: =_xlfn.LET(_xlpm.x,F15,IF(OR(LEN(_xlpm.x)<1,_xlpm.x=0),"",_xlpm.x)) | BG15: =_xlfn.LET(_xlpm.x,G15,IF(OR(LEN(_xlpm.x)<1,_xlpm.x=0),"",_xlpm.x)) | BH15: =_xlfn.LET(_xlpm.x,H15,IF(OR(LEN(_xlpm.x)<1,_xlpm.x=0),"",CONVERT(_xlpm.x,BH7,"kg"))) | BI15: =_xlfn.LET(_xlpm.x,I15,IF(OR(LEN(_xlpm.x)<1,_xlpm.x=0),"",CONVERT(_xlpm.x,BH7,"kg"))) | BJ15: =_xlfn.LET(_xlpm.x,J15,IF(OR(LEN(_xlpm.x)<1,_xlpm.x=0),"",CONVERT(_xlpm.x,BH7,"kg"))) | BK15: =_xlfn.LET(_xlpm.x,K15,IF(OR(LEN(_xlpm.x)<1,_xlpm.x=0),"",CONVERT(_xlpm.x,BH7,"kg"))) | BL15: =_xlfn.LET(_xlpm.x,L15,IF(OR(LEN(_xlpm.x)<1,_xlpm.x=0),"",CONVERT(_xlpm.x,BH7,"kg"))) | BM15: =_xlfn.LET(_xlpm.x,M15,IF(OR(LEN(_xlpm.x)<1,_xlpm.x=0),"",CONVERT(_xlpm.x,BH7,"kg"))) | BN15: =_xlfn.LET(_xlpm.x,N15,IF(OR(LEN(_xlpm.x)<1,_xlpm.x=0),"",CONVERT(_xlpm.x,BH7,"kg"))) | BO15: =_xlfn.LET(_xlpm.x,O15,IF(OR(LEN(_xlpm.x)<1,_xlpm.x=0),"",CONVERT(_xlpm.x,BH7,"kg"))) | BP15: =_xlfn.LET(_xlpm.x,P15,IF(OR(LEN(_xlpm.x)<1,_xlpm.x=0),"",CONVERT(_xlpm.x,BH7,"kg"))) | BQ15: =_xlfn.LET(_xlpm.x,Q15,IF(OR(LEN(_xlpm.x)<1,_xlpm.x=0),"",CONVERT(_xlpm.x,BH7,"kg"))) | BR15: =_xlfn.LET(_xlpm.x,R15,IF(OR(LEN(_xlpm.x)<1,_xlpm.x=0),"",CONVERT(_xlpm.x,BH7,"kg"))) | BS15: =_xlfn.LET(_xlpm.x,S15,IF(OR(LEN(_xlpm.x)<1,_xlpm.x=0),"",CONVERT(_xlpm.x,BH7,"kg"))) | BT15: =SUM(BH15:BS15) -> 0 | BU15: =_xlfn.LET(_xlpm.x,BF15,IF(LEN(_xlpm.x)<1,"",IF(ISNUMBER(MATCH(_xlpm.x,ls_Mat_def,0)),'Project Inputs'!$BF$14,99))) | BV15: {=IFERROR(INDEX(tblGWP[],MATCH(1,(tblGWP[Dataset ID]=BU15)*(tblGWP[Material Subcategory]=BF15),0),MATCH(BG15,ls_WHM,0)+5),"confirm")} -> confirm | BW15: =IFERROR(BH15*$BV15,"No data") -> No data | BX15: =IFERROR(BI15*$BV15,"No data") -> No data | BY15: =IFERROR(BJ15*$BV15,"No data") -> No data | BZ15: =IFERROR(BK15*$BV15,"No data") -> No data | CA15: =IFERROR(BL15*$BV15,"No data") -> No data | CB15: =IFERROR(BM15*$BV15,"No data") -> No data | CC15: =IFERROR(BN15*$BV15,"No data") -> No data | CD15: =IFERROR(BO15*$BV15,"No data") -> No data | ... CH15: =IFERROR(BS15*$BV15,"No data") -> No data | CI15: =SUM(BW15:CH15) -> 0 | CK15: =_xlfn.LET(_xlpm.x,INDEX(tbl_Mat_def[],MATCH(BF15,ls_Mat_def,0),2),IFERROR(IF(_xlpm.x=0,"No","Yes"),"No")) -> No | CM15: =BF15 | CN15: Landfill | CO15: =_xlfn.XLOOKUP(CM15,tblGWP[Material Subcategory],tblGWP[Landfill],0) | CP15: =IFERROR($BT15*CO15,"") | DA15: E1 | DB15: All weights are positive numbers or blank | DD15: =IF(DE15=19,0,SUM(DF15:DI15)) -> 0 | DE15: =COUNTBLANK(B15:U15) -> 19 | DF15: =SUM(IF(OR(ISNUMBER(H15),LEN(H15)=0),0,1),IF(OR(ISNUMBER(I15),LEN(I15)=0),0,1), IF(OR(ISNUMBER(J15),LEN(J15)=0),0,1),IF(OR(ISNUMBER(K15),LEN(K15)=0),0,1), IF(OR(ISNUMBER(L15),LEN(L15)=0),0,1),IF(OR(ISNUMBER(M15),LEN(M15)=0),0,1), IF(OR(ISNUMBER(N15),LEN(N15)=0),0,1),IF(OR(ISNUMBER(O15),LEN(O15)=0),0,1), IF(OR(ISNUMBER(P15),LEN(P15)=0),0,1),IF(OR(ISNUMBER(Q15),LEN(Q15)=0),0,1), IF(OR(ISNUMBER(R15),LEN(R15)=0),0,1),IF(OR(ISNUMBER(S15),LEN(S15)=0),0,1))+ IF(MIN(H15:R15)>=0,0,1) -> 0 | DG15: =_xlfn.LET(_xlpm.x,DE15,_xlpm.y,B15,_xlpm.z,E15,_xlpm.m,F15,_xlpm.n,G15,_xlpm.o,COUNTBLANK(H15:S15),_xlpm.p,C15,IF(_xlpm.x=19,0, IF(AND(LEN(_xlpm.y)>0,LEN(_xlpm.z)>0,LEN(_xlpm.m)>0,LEN(_xlpm.n)>0,LEN(_xlpm.p)>0,_xlpm.o<12),0,1))) -> 0 | DH15: =IF(DE15=19,0,IF(ISNUMBER(MATCH(F15,INDIRECT(INDEX(ls_Subcat_options,MATCH(E15,ls_Mat_Cat,0))),0)),0,1)) -> 0 | DI15: =IF(DE15=19,0,IF(ISNUMBER(MATCH(G15,INDIRECT(INDEX(ls_WHM_options,MATCH(F15,ls_Mat,0))),0)),0,1)) -> 0
A16: =IF(DD16=0,"",1) | T16: =SUM(H16:S16) -> 0 | BC16: =_xlfn.LET(_xlpm.x,B16,IF(OR(LEN(_xlpm.x)<1,_xlpm.x=0),"",_xlpm.x)) | BD16: =_xlfn.LET(_xlpm.x,D16,IF(OR(LEN(_xlpm.x)<1,_xlpm.x=0),"",_xlpm.x)) | BE16: =_xlfn.LET(_xlpm.x,E16,IF(OR(LEN(_xlpm.x)<1,_xlpm.x=0),"",_xlpm.x)) | BF16: =_xlfn.LET(_xlpm.x,F16,IF(OR(LEN(_xlpm.x)<1,_xlpm.x=0),"",_xlpm.x)) | BG16: =_xlfn.LET(_xlpm.x,G16,IF(OR(LEN(_xlpm.x)<1,_xlpm.x=0),"",_xlpm.x)) | BH16: =_xlfn.LET(_xlpm.x,H16,IF(OR(LEN(_xlpm.x)<1,_xlpm.x=0),"",CONVERT(_xlpm.x,BH7,"kg"))) | BI16: =_xlfn.LET(_xlpm.x,I16,IF(OR(LEN(_xlpm.x)<1,_xlpm.x=0),"",CONVERT(_xlpm.x,BH7,"kg"))) | BJ16: =_xlfn.LET(_xlpm.x,J16,IF(OR(LEN(_xlpm.x)<1,_xlpm.x=0),"",CONVERT(_xlpm.x,BH7,"kg"))) | BK16: =_xlfn.LET(_xlpm.x,K16,IF(OR(LEN(_xlpm.x)<1,_xlpm.x=0),"",CONVERT(_xlpm.x,BH7,"kg"))) | BL16: =_xlfn.LET(_xlpm.x,L16,IF(OR(LEN(_xlpm.x)<1,_xlpm.x=0),"",CONVERT(_xlpm.x,BH7,"kg"))) | BM16: =_xlfn.LET(_xlpm.x,M16,IF(OR(LEN(_xlpm.x)<1,_xlpm.x=0),"",CONVERT(_xlpm.x,BH7,"kg"))) | BN16: =_xlfn.LET(_xlpm.x,N16,IF(OR(LEN(_xlpm.x)<1,_xlpm.x=0),"",CONVERT(_xlpm.x,BH7,"kg"))) | BO16: =_xlfn.LET(_xlpm.x,O16,IF(OR(LEN(_xlpm.x)<1,_xlpm.x=0),"",CONVERT(_xlpm.x,BH7,"kg"))) | BP16: =_xlfn.LET(_xlpm.x,P16,IF(OR(LEN(_xlpm.x)<1,_xlpm.x=0),"",CONVERT(_xlpm.x,BH7,"kg"))) | BQ16: =_xlfn.LET(_xlpm.x,Q16,IF(OR(LEN(_xlpm.x)<1,_xlpm.x=0),"",CONVERT(_xlpm.x,BH7,"kg"))) | BR16: =_xlfn.LET(_xlpm.x,R16,IF(OR(LEN(_xlpm.x)<1,_xlpm.x=0),"",CONVERT(_xlpm.x,BH7,"kg"))) | BS16: =_xlfn.LET(_xlpm.x,S16,IF(OR(LEN(_xlpm.x)<1,_xlpm.x=0),"",CONVERT(_xlpm.x,BH7,"kg"))) | BT16: =SUM(BH16:BS16) -> 0 | BU16: =_xlfn.LET(_xlpm.x,BF16,IF(LEN(_xlpm.x)<1,"",IF(ISNUMBER(MATCH(_xlpm.x,ls_Mat_def,0)),'Project Inputs'!$BF$14,99))) | BV16: {=IFERROR(INDEX(tblGWP[],MATCH(1,(tblGWP[Dataset ID]=BU16)*(tblGWP[Material Subcategory]=BF16),0),MATCH(BG16,ls_WHM,0)+5),"confirm")} -> confirm | BW16: =IFERROR(BH16*$BV16,"No data") -> No data | BX16: =IFERROR(BI16*$BV16,"No data") -> No data | BY16: =IFERROR(BJ16*$BV16,"No data") -> No data | BZ16: =IFERROR(BK16*$BV16,"No data") -> No data | CA16: =IFERROR(BL16*$BV16,"No data") -> No data | CB16: =IFERROR(BM16*$BV16,"No data") -> No data | CC16: =IFERROR(BN16*$BV16,"No data") -> No data | CD16: =IFERROR(BO16*$BV16,"No data") -> No data | ... CH16: =IFERROR(BS16*$BV16,"No data") -> No data | CI16: =SUM(BW16:CH16) -> 0 | CK16: =_xlfn.LET(_xlpm.x,INDEX(tbl_Mat_def[],MATCH(BF16,ls_Mat_def,0),2),IFERROR(IF(_xlpm.x=0,"No","Yes"),"No")) -> No | CM16: =BF16 | CN16: Landfill | CO16: =_xlfn.XLOOKUP(CM16,tblGWP[Material Subcategory],tblGWP[Landfill],0) | CP16: =IFERROR($BT16*CO16,"") | DA16: E2 | DB16: Minimum data entered (frequency, cat, subcat, WHM, estimation, and at least 1 weight value). | DD16: =IF(DE16=19,0,SUM(DF16:DI16)) -> 0 | DE16: =COUNTBLANK(B16:U16) -> 19 | DF16: =SUM(IF(OR(ISNUMBER(H16),LEN(H16)=0),0,1),IF(OR(ISNUMBER(I16),LEN(I16)=0),0,1), IF(OR(ISNUMBER(J16),LEN(J16)=0),0,1),IF(OR(ISNUMBER(K16),LEN(K16)=0),0,1), IF(OR(ISNUMBER(L16),LEN(L16)=0),0,1),IF(OR(ISNUMBER(M16),LEN(M16)=0),0,1), IF(OR(ISNUMBER(N16),LEN(N16)=0),0,1),IF(OR(ISNUMBER(O16),LEN(O16)=0),0,1), IF(OR(ISNUMBER(P16),LEN(P16)=0),0,1),IF(OR(ISNUMBER(Q16),LEN(Q16)=0),0,1), IF(OR(ISNUMBER(R16),LEN(R16)=0),0,1),IF(OR(ISNUMBER(S16),LEN(S16)=0),0,1))+ IF(MIN(H16:R16)>=0,0,1) -> 0 | DG16: =_xlfn.LET(_xlpm.x,DE16,_xlpm.y,B16,_xlpm.z,E16,_xlpm.m,F16,_xlpm.n,G16,_xlpm.o,COUNTBLANK(H16:S16),_xlpm.p,C16,IF(_xlpm.x=19,0, IF(AND(LEN(_xlpm.y)>0,LEN(_xlpm.z)>0,LEN(_xlpm.m)>0,LEN(_xlpm.n)>0,LEN(_xlpm.p)>0,_xlpm.o<12),0,1))) -> 0 | DH16: =IF(DE16=19,0,IF(ISNUMBER(MATCH(F16,INDIRECT(INDEX(ls_Subcat_options,MATCH(E16,ls_Mat_Cat,0))),0)),0,1)) -> 0 | DI16: =IF(DE16=19,0,IF(ISNUMBER(MATCH(G16,INDIRECT(INDEX(ls_WHM_options,MATCH(F16,ls_Mat,0))),0)),0,1)) -> 0
A17: =IF(DD17=0,"",1) | T17: =SUM(H17:S17) -> 0 | BC17: =_xlfn.LET(_xlpm.x,B17,IF(OR(LEN(_xlpm.x)<1,_xlpm.x=0),"",_xlpm.x)) | BD17: =_xlfn.LET(_xlpm.x,D17,IF(OR(LEN(_xlpm.x)<1,_xlpm.x=0),"",_xlpm.x)) | BE17: =_xlfn.LET(_xlpm.x,E17,IF(OR(LEN(_xlpm.x)<1,_xlpm.x=0),"",_xlpm.x)) | BF17: =_xlfn.LET(_xlpm.x,F17,IF(OR(LEN(_xlpm.x)<1,_xlpm.x=0),"",_xlpm.x)) | BG17: =_xlfn.LET(_xlpm.x,G17,IF(OR(LEN(_xlpm.x)<1,_xlpm.x=0),"",_xlpm.x)) | BH17: =_xlfn.LET(_xlpm.x,H17,IF(OR(LEN(_xlpm.x)<1,_xlpm.x=0),"",CONVERT(_xlpm.x,BH7,"kg"))) | BI17: =_xlfn.LET(_xlpm.x,I17,IF(OR(LEN(_xlpm.x)<1,_xlpm.x=0),"",CONVERT(_xlpm.x,BH7,"kg"))) | BJ17: =_xlfn.LET(_xlpm.x,J17,IF(OR(LEN(_xlpm.x)<1,_xlpm.x=0),"",CONVERT(_xlpm.x,BH7,"kg"))) | BK17: =_xlfn.LET(_xlpm.x,K17,IF(OR(LEN(_xlpm.x)<1,_xlpm.x=0),"",CONVERT(_xlpm.x,BH7,"kg"))) | BL17: =_xlfn.LET(_xlpm.x,L17,IF(OR(LEN(_xlpm.x)<1,_xlpm.x=0),"",CONVERT(_xlpm.x,BH7,"kg"))) | BM17: =_xlfn.LET(_xlpm.x,M17,IF(OR(LEN(_xlpm.x)<1,_xlpm.x=0),"",CONVERT(_xlpm.x,BH7,"kg"))) | BN17: =_xlfn.LET(_xlpm.x,N17,IF(OR(LEN(_xlpm.x)<1,_xlpm.x=0),"",CONVERT(_xlpm.x,BH7,"kg"))) | BO17: =_xlfn.LET(_xlpm.x,O17,IF(OR(LEN(_xlpm.x)<1,_xlpm.x=0),"",CONVERT(_xlpm.x,BH7,"kg"))) | BP17: =_xlfn.LET(_xlpm.x,P17,IF(OR(LEN(_xlpm.x)<1,_xlpm.x=0),"",CONVERT(_xlpm.x,BH7,"kg"))) | BQ17: =_xlfn.LET(_xlpm.x,Q17,IF(OR(LEN(_xlpm.x)<1,_xlpm.x=0),"",CONVERT(_xlpm.x,BH7,"kg"))) | BR17: =_xlfn.LET(_xlpm.x,R17,IF(OR(LEN(_xlpm.x)<1,_xlpm.x=0),"",CONVERT(_xlpm.x,BH7,"kg"))) | BS17: =_xlfn.LET(_xlpm.x,S17,IF(OR(LEN(_xlpm.x)<1,_xlpm.x=0),"",CONVERT(_xlpm.x,BH7,"kg"))) | BT17: =SUM(BH17:BS17) -> 0 | BU17: =_xlfn.LET(_xlpm.x,BF17,IF(LEN(_xlpm.x)<1,"",IF(ISNUMBER(MATCH(_xlpm.x,ls_Mat_def,0)),'Project Inputs'!$BF$14,99))) | BV17: {=IFERROR(INDEX(tblGWP[],MATCH(1,(tblGWP[Dataset ID]=BU17)*(tblGWP[Material Subcategory]=BF17),0),MATCH(BG17,ls_WHM,0)+5),"confirm")} -> confirm | BW17: =IFERROR(BH17*$BV17,"No data") -> No data | BX17: =IFERROR(BI17*$BV17,"No data") -> No data | BY17: =IFERROR(BJ17*$BV17,"No data") -> No data | BZ17: =IFERROR(BK17*$BV17,"No data") -> No data | CA17: =IFERROR(BL17*$BV17,"No data") -> No data | CB17: =IFERROR(BM17*$BV17,"No data") -> No data | CC17: =IFERROR(BN17*$BV17,"No data") -> No data | CD17: =IFERROR(BO17*$BV17,"No data") -> No data | ... CH17: =IFERROR(BS17*$BV17,"No data") -> No data | CI17: =SUM(BW17:CH17) -> 0 | CK17: =_xlfn.LET(_xlpm.x,INDEX(tbl_Mat_def[],MATCH(BF17,ls_Mat_def,0),2),IFERROR(IF(_xlpm.x=0,"No","Yes"),"No")) -> No | CM17: =BF17 | CN17: Landfill | CO17: =_xlfn.XLOOKUP(CM17,tblGWP[Material Subcategory],tblGWP[Landfill],0) | CP17: =IFERROR($BT17*CO17,"") | DA17: E3 | DB17: Subcategory does not fit category | DD17: =IF(DE17=19,0,SUM(DF17:DI17)) -> 0 | DE17: =COUNTBLANK(B17:U17) -> 19 | DF17: =SUM(IF(OR(ISNUMBER(H17),LEN(H17)=0),0,1),IF(OR(ISNUMBER(I17),LEN(I17)=0),0,1), IF(OR(ISNUMBER(J17),LEN(J17)=0),0,1),IF(OR(ISNUMBER(K17),LEN(K17)=0),0,1), IF(OR(ISNUMBER(L17),LEN(L17)=0),0,1),IF(OR(ISNUMBER(M17),LEN(M17)=0),0,1), IF(OR(ISNUMBER(N17),LEN(N17)=0),0,1),IF(OR(ISNUMBER(O17),LEN(O17)=0),0,1), IF(OR(ISNUMBER(P17),LEN(P17)=0),0,1),IF(OR(ISNUMBER(Q17),LEN(Q17)=0),0,1), IF(OR(ISNUMBER(R17),LEN(R17)=0),0,1),IF(OR(ISNUMBER(S17),LEN(S17)=0),0,1))+ IF(MIN(H17:R17)>=0,0,1) -> 0 | DG17: =_xlfn.LET(_xlpm.x,DE17,_xlpm.y,B17,_xlpm.z,E17,_xlpm.m,F17,_xlpm.n,G17,_xlpm.o,COUNTBLANK(H17:S17),_xlpm.p,C17,IF(_xlpm.x=19,0, IF(AND(LEN(_xlpm.y)>0,LEN(_xlpm.z)>0,LEN(_xlpm.m)>0,LEN(_xlpm.n)>0,LEN(_xlpm.p)>0,_xlpm.o<12),0,1))) -> 0 | DH17: =IF(DE17=19,0,IF(ISNUMBER(MATCH(F17,INDIRECT(INDEX(ls_Subcat_options,MATCH(E17,ls_Mat_Cat,0))),0)),0,1)) -> 0 | DI17: =IF(DE17=19,0,IF(ISNUMBER(MATCH(G17,INDIRECT(INDEX(ls_WHM_options,MATCH(F17,ls_Mat,0))),0)),0,1)) -> 0
A18: =IF(DD18=0,"",1) | T18: =SUM(H18:S18) -> 0 | BC18: =_xlfn.LET(_xlpm.x,B18,IF(OR(LEN(_xlpm.x)<1,_xlpm.x=0),"",_xlpm.x)) | BD18: =_xlfn.LET(_xlpm.x,D18,IF(OR(LEN(_xlpm.x)<1,_xlpm.x=0),"",_xlpm.x)) | BE18: =_xlfn.LET(_xlpm.x,E18,IF(OR(LEN(_xlpm.x)<1,_xlpm.x=0),"",_xlpm.x)) | BF18: =_xlfn.LET(_xlpm.x,F18,IF(OR(LEN(_xlpm.x)<1,_xlpm.x=0),"",_xlpm.x)) | BG18: =_xlfn.LET(_xlpm.x,G18,IF(OR(LEN(_xlpm.x)<1,_xlpm.x=0),"",_xlpm.x)) | BH18: =_xlfn.LET(_xlpm.x,H18,IF(OR(LEN(_xlpm.x)<1,_xlpm.x=0),"",CONVERT(_xlpm.x,BH7,"kg"))) | BI18: =_xlfn.LET(_xlpm.x,I18,IF(OR(LEN(_xlpm.x)<1,_xlpm.x=0),"",CONVERT(_xlpm.x,BH7,"kg"))) | BJ18: =_xlfn.LET(_xlpm.x,J18,IF(OR(LEN(_xlpm.x)<1,_xlpm.x=0),"",CONVERT(_xlpm.x,BH7,"kg"))) | BK18: =_xlfn.LET(_xlpm.x,K18,IF(OR(LEN(_xlpm.x)<1,_xlpm.x=0),"",CONVERT(_xlpm.x,BH7,"kg"))) | BL18: =_xlfn.LET(_xlpm.x,L18,IF(OR(LEN(_xlpm.x)<1,_xlpm.x=0),"",CONVERT(_xlpm.x,BH7,"kg"))) | BM18: =_xlfn.LET(_xlpm.x,M18,IF(OR(LEN(_xlpm.x)<1,_xlpm.x=0),"",CONVERT(_xlpm.x,BH7,"kg"))) | BN18: =_xlfn.LET(_xlpm.x,N18,IF(OR(LEN(_xlpm.x)<1,_xlpm.x=0),"",CONVERT(_xlpm.x,BH7,"kg"))) | BO18: =_xlfn.LET(_xlpm.x,O18,IF(OR(LEN(_xlpm.x)<1,_xlpm.x=0),"",CONVERT(_xlpm.x,BH7,"kg"))) | BP18: =_xlfn.LET(_xlpm.x,P18,IF(OR(LEN(_xlpm.x)<1,_xlpm.x=0),"",CONVERT(_xlpm.x,BH7,"kg"))) | BQ18: =_xlfn.LET(_xlpm.x,Q18,IF(OR(LEN(_xlpm.x)<1,_xlpm.x=0),"",CONVERT(_xlpm.x,BH7,"kg"))) | BR18: =_xlfn.LET(_xlpm.x,R18,IF(OR(LEN(_xlpm.x)<1,_xlpm.x=0),"",CONVERT(_xlpm.x,BH7,"kg"))) | BS18: =_xlfn.LET(_xlpm.x,S18,IF(OR(LEN(_xlpm.x)<1,_xlpm.x=0),"",CONVERT(_xlpm.x,BH7,"kg"))) | BT18: =SUM(BH18:BS18) -> 0 | BU18: =_xlfn.LET(_xlpm.x,BF18,IF(LEN(_xlpm.x)<1,"",IF(ISNUMBER(MATCH(_xlpm.x,ls_Mat_def,0)),'Project Inputs'!$BF$14,99))) | BV18: {=IFERROR(INDEX(tblGWP[],MATCH(1,(tblGWP[Dataset ID]=BU18)*(tblGWP[Material Subcategory]=BF18),0),MATCH(BG18,ls_WHM,0)+5),"confirm")} -> confirm | BW18: =IFERROR(BH18*$BV18,"No data") -> No data | BX18: =IFERROR(BI18*$BV18,"No data") -> No data | BY18: =IFERROR(BJ18*$BV18,"No data") -> No data | BZ18: =IFERROR(BK18*$BV18,"No data") -> No data | CA18: =IFERROR(BL18*$BV18,"No data") -> No data | CB18: =IFERROR(BM18*$BV18,"No data") -> No data | CC18: =IFERROR(BN18*$BV18,"No data") -> No data | CD18: =IFERROR(BO18*$BV18,"No data") -> No data | ... CH18: =IFERROR(BS18*$BV18,"No data") -> No data | CI18: =SUM(BW18:CH18) -> 0 | CK18: =_xlfn.LET(_xlpm.x,INDEX(tbl_Mat_def[],MATCH(BF18,ls_Mat_def,0),2),IFERROR(IF(_xlpm.x=0,"No","Yes"),"No")) -> No | CM18: =BF18 | CN18: Landfill | CO18: =_xlfn.XLOOKUP(CM18,tblGWP[Material Subcategory],tblGWP[Landfill],0) | CP18: =IFERROR($BT18*CO18,"") | DA18: E4 | DB18: WHM does not fit subcategory | DD18: =IF(DE18=19,0,SUM(DF18:DI18)) -> 0 | DE18: =COUNTBLANK(B18:U18) -> 19 | DF18: =SUM(IF(OR(ISNUMBER(H18),LEN(H18)=0),0,1),IF(OR(ISNUMBER(I18),LEN(I18)=0),0,1), IF(OR(ISNUMBER(J18),LEN(J18)=0),0,1),IF(OR(ISNUMBER(K18),LEN(K18)=0),0,1), IF(OR(ISNUMBER(L18),LEN(L18)=0),0,1),IF(OR(ISNUMBER(M18),LEN(M18)=0),0,1), IF(OR(ISNUMBER(N18),LEN(N18)=0),0,1),IF(OR(ISNUMBER(O18),LEN(O18)=0),0,1), IF(OR(ISNUMBER(P18),LEN(P18)=0),0,1),IF(OR(ISNUMBER(Q18),LEN(Q18)=0),0,1), IF(OR(ISNUMBER(R18),LEN(R18)=0),0,1),IF(OR(ISNUMBER(S18),LEN(S18)=0),0,1))+ IF(MIN(H18:R18)>=0,0,1) -> 0 | DG18: =_xlfn.LET(_xlpm.x,DE18,_xlpm.y,B18,_xlpm.z,E18,_xlpm.m,F18,_xlpm.n,G18,_xlpm.o,COUNTBLANK(H18:S18),_xlpm.p,C18,IF(_xlpm.x=19,0, IF(AND(LEN(_xlpm.y)>0,LEN(_xlpm.z)>0,LEN(_xlpm.m)>0,LEN(_xlpm.n)>0,LEN(_xlpm.p)>0,_xlpm.o<12),0,1))) -> 0 | DH18: =IF(DE18=19,0,IF(ISNUMBER(MATCH(F18,INDIRECT(INDEX(ls_Subcat_options,MATCH(E18,ls_Mat_Cat,0))),0)),0,1)) -> 0 | DI18: =IF(DE18=19,0,IF(ISNUMBER(MATCH(G18,INDIRECT(INDEX(ls_WHM_options,MATCH(F18,ls_Mat,0))),0)),0,1)) -> 0
